BEGIN:VCALENDAR
VERSION:2.0
PRODID:-//MediWales - ECPv6.6.4.2//NONSGML v1.0//EN
CALSCALE:GREGORIAN
METHOD:PUBLISH
X-WR-CALNAME:MediWales
X-ORIGINAL-URL:https://mediwales.com
X-WR-CALDESC:Events for MediWales
REFRESH-INTERVAL;VALUE=DURATION:PT1H
X-Robots-Tag:noindex
X-PUBLISHED-TTL:PT1H
BEGIN:VTIMEZONE
TZID:Europe/London
BEGIN:DAYLIGHT
TZOFFSETFROM:+0000
TZOFFSETTO:+0100
TZNAME:BST
DTSTART:20260329T010000
END:DAYLIGHT
BEGIN:STANDARD
TZOFFSETFROM:+0100
TZOFFSETTO:+0000
TZNAME:GMT
DTSTART:20261025T010000
END:STANDARD
END:VTIMEZONE
BEGIN:VEVENT
DTSTART;TZID=Europe/London:20260429T080000
DTEND;TZID=Europe/London:20260429T170000
DTSTAMP:20260421T110647
CREATED:20260218T142657Z
LAST-MODIFIED:20260218T142657Z
UID:25494-1777449600-1777482000@mediwales.com
SUMMARY:Swansea University: Sensors for Health 2026
DESCRIPTION:Date: 29th April 2026\nVenue: The Bay Campus\, Swansea University \nSwansea University delivers world-class medical\, bioengineering and biosciences research and offers dedicated opportunities for business incubation and technology transfer. \nSectors that are used to gather data about the body or its surrounding environment permeate our lives in many ways. Whether in biosciences\, medical diagnosis and monitoring\, sports\, physical activity or broader manufacturing sectors\, sensors are becoming increasingly integrated into our daily lives. As technology advances\, more innovative applications for sensor devices in humans are becoming realised. \nOur vision is to encourage collaboration\, innovation and advancements in health technologies through better multidisciplinary research partnerships. \nThis symposium is aimed at academic and industry stakeholders\, with a focus on: \n\nSensor development\nTesting or translation within (a) human health\, (b) biomedical\, (c) therapeutics\, (d) sporting\, (e) manufacturing sectors and other areas aligned to life sciences.\n\nIf you are interested in representing your research area or business involved in the development of sensors\, data analytics or therapeutics involved in the broad theme of health care and life sciences at this event\, please complete this short form here.
URL:https://mediwales.com/event/swansea-university-sensors-for-health-2026/
LOCATION:Swansea University Events & Hospitality Bay Campus\, Swansea University Bay Campus\, Fabian Way\, Swansea\, SA1 8EN
CATEGORIES:External
END:VEVENT
BEGIN:VEVENT
DTSTART;TZID=Europe/London:20260604T120000
DTEND;TZID=Europe/London:20260605T170000
DTSTAMP:20260421T110647
CREATED:20260416T103731Z
LAST-MODIFIED:20260416T103731Z
UID:25544-1780574400-1780678800@mediwales.com
SUMMARY:UKCEN Conference 2026
DESCRIPTION:The 2026 UKCEN Conference will take place on Friday 5th June at Cardiff University with a workshop for members of Clinical Ethics Committees being held on the afternoon of Thursday 4th June 2026. \nThe conference will cover a broad range of topics relating to the advert of digital healthcare. While the programme is subject to change\, please see the current line-up of speakers and talks on the website here.
URL:https://mediwales.com/event/ukcen-conference-2026/
LOCATION:Cardiff University\, Cathays Park Campus Glamorgan building\, Committee room 2 King Edward VII Avenue\, Cardiff\, CF10 3WT \, United Kingdom
CATEGORIES:External
END:VEVENT
END:VCALENDAR