BEGIN:VCALENDAR
VERSION:2.0
PRODID:-//MediWales - ECPv6.6.4.2//NONSGML v1.0//EN
CALSCALE:GREGORIAN
METHOD:PUBLISH
X-ORIGINAL-URL:https://mediwales.com
X-WR-CALDESC:Events for MediWales
REFRESH-INTERVAL;VALUE=DURATION:PT1H
X-Robots-Tag:noindex
X-PUBLISHED-TTL:PT1H
BEGIN:VTIMEZONE
TZID:Europe/London
BEGIN:DAYLIGHT
TZOFFSETFROM:+0000
TZOFFSETTO:+0100
TZNAME:BST
DTSTART:20260329T010000
END:DAYLIGHT
BEGIN:STANDARD
TZOFFSETFROM:+0100
TZOFFSETTO:+0000
TZNAME:GMT
DTSTART:20261025T010000
END:STANDARD
END:VTIMEZONE
BEGIN:VEVENT
DTSTART;TZID=Europe/London:20260429T080000
DTEND;TZID=Europe/London:20260429T170000
DTSTAMP:20260424T002352
CREATED:20260114T130236Z
LAST-MODIFIED:20260324T151206Z
UID:25449-1777449600-1777482000@mediwales.com
SUMMARY:Health + AI Tech Show 2026
DESCRIPTION:The UK’s first national Health + AI Tech Show\, free to attend for NHS\, healthcare\, pharma and life sciences leaders focused on safe\, real-world AI adoption. \nDate: 29th April \nVenue: Big Penny Social\, 1 Priestley Way\, E17 6AL \nThe Health + AI Tech Show is the UK’s first national\, experience-led forum for applied AI in healthcare and life sciences. Taking place in London on 29 April 2026\, it brings together NHS leaders\, regulators\, pharma\, biotech and technology teams working at the frontline of real adoption (not pilots and promises). \nAcross three summits covering Clinical AI & Diagnostics\, Genomics\, Biotech & Drug Discovery\, and AI in Health & Hospital Operations\, the agenda focuses on what’s live\, what’s scaling and what’s failing fast. Alongside hands on LAB Clinics\, Creative LDN: Health Edition adds a human dimension including voices such as Adam Kay\, comedian & author of ‘This Is Going to Hurt’.  Reminding leaders that healthcare transformation is as much about people as technology. \nKEY FEATURES:  \n\n3 senior summits covering the full health AI ecosystem: Clinical AI & Diagnostics\, Genomics\, Biotech & Drug Discovery\, and AI in Health & Hospital Operations\nHands-on LAB Clinics with practical\, skills-based workshops for leaders looking to understand\, test and apply AI safely in real healthcare settings\nCreative LDN: Health Edition: an immersive cultural and wellbeing programme designed to keep the human at the centre of health AI\, increase organic learning and spark meaningful connections\nNHS\, regulator\, pharma and biotech-led agenda focused on deployment\, governance\, workforce impact and system readiness (not hype or theory)\nFree to attend for the buy side\, creating a senior\, decision-maker-heavy audience across health systems\, life sciences and research\n\nLearn more about the event here.
URL:https://mediwales.com/event/health-ai-tech-show-2026/
CATEGORIES:Partner Events
END:VEVENT
BEGIN:VEVENT
DTSTART;VALUE=DATE:20260603
DTEND;VALUE=DATE:20260605
DTSTAMP:20260424T002352
CREATED:20251128T141011Z
LAST-MODIFIED:20260306T095915Z
UID:25122-1780444800-1780617599@mediwales.com
SUMMARY:Med-Tech Expo 2026
DESCRIPTION:Med-Tech Expo 2026 | 3-4 June 2026 | NEC Birmingham \nThe UK’s leading event for medical device design and manufacturing returns to the NEC Birmingham on 3-4 June 2026. \nWith the UK medtech sector generating over £27.6 billion in annual turnover and exporting more than £5.6 billion in products globally\, the industry continues to play a vital role in both the national and international marketplace. Med-Tech Expo sits at the heart of this thriving ecosystem. \nRecognised as the home of medical device manufacturing in the UK\, the exhibition showcases the entire supply chain from market-leading technology provides and advanced machinery to materials\, software\, testing\, packaging and regulatory specialists. \nThe event brings together leaders\, engineers\, innovators and manufacturers\, connecting them with the technology and expertise needed to design and manufacture life-changing medical devices. \nLearn more about Med-Tech Expo here.
URL:https://mediwales.com/event/med-tech-expo-2026/
LOCATION:NEC Birmingham
CATEGORIES:Partner Events
END:VEVENT
BEGIN:VEVENT
DTSTART;TZID=Europe/London:20260617T080000
DTEND;TZID=Europe/London:20260617T160000
DTSTAMP:20260424T002352
CREATED:20260414T103351Z
LAST-MODIFIED:20260414T103351Z
UID:25535-1781683200-1781712000@mediwales.com
SUMMARY:Bionow: BioFocus 2026 conference
DESCRIPTION:Date: 17th June 2026\nTime: 08:30 – 16:00\nVenue: The Catalyst\, 3 Science Square\, Newcastle Helix\, Newcastle\, NE4 5TG \n\n\nBioFocus by Bionow is a dynamic one-day conference uniting leaders from industry\, academia\, and the wider life sciences community. \nDesigned to spark collaboration and accelerate innovation\, BioFocus offers a powerful platform to connect\, engage\, and create new opportunities for growth. The event features an inspiring programme of keynote talks\, expert panels\, exhibition and dedicated networking sessions. \n\n\n\n\nThe agenda will include sessions on labs and therapies of the future\, finance and funding opportunities\, technology showcase talks\, and more. Attendees will discover cutting-edge technologies\, emerging research\, sector-shaping initiatives and current funding pathways: all in one place. \nYou can learn more about the BioFocus conference here.
URL:https://mediwales.com/event/bionow-biofocus-2026-conference/
LOCATION:The Catalyst\, Newcastle Helix\, Newcastle
CATEGORIES:Partner Events
ORGANIZER;CN="Bionow":MAILTO:helen.williams@bionow.co.uk
END:VEVENT
BEGIN:VEVENT
DTSTART;TZID=Europe/London:20260709T083000
DTEND;TZID=Europe/London:20260709T163000
DTSTAMP:20260424T002352
CREATED:20260414T103749Z
LAST-MODIFIED:20260414T103749Z
UID:25536-1783585800-1783614600@mediwales.com
SUMMARY:Bionow Neuroscience Conference 2026
DESCRIPTION:Date: 9th July 2026\nTime: 08:30 – 16:30\nVenue: Sheffield Town Hall\, Pinstone St\, Sheffield\, S1 2HH \nNeuroscience Conference 2026: From Research to Recovery in Neuroscience \n\n\nThe conference will highlight the North’s strengths in neuroscience research\, development and commercialisation\, showcasing progress across a range of neurological diseases and conditions. Attendees will explore key challenges and opportunities\, including: \n\nTranslating research into therapies that reach patients faster\nCombining expertise\, funding and new technologies effectively\nAdvancing R&D and commercialisation strategies in neuroscience\nImproving patient outcomes through innovative approaches\nThis is more than a conference: it is a forum to accelerate discoveries\, foster collaboration and shape the future of neuroscience in the North and beyond.\n\n\n\n\n\nWhy Attend? \nBionow’s Neuroscience Conference brings together academics\, clinicians and industry leaders to explore breakthroughs in the discovery\, development and delivery of treatments for neurological diseases. \nFrom emerging therapies to cutting-edge technologies\, the event provides a collaborative platform to share insights\, tackle sector challenges\, and highlight opportunities that improve patient outcomes. \nYou can learn more about the Bionow Neuroscience conference here.
URL:https://mediwales.com/event/bionow-neuroscience-conference-2026/
LOCATION:Sheffield Town Hall\, Pinstone St\, Sheffield\, S1 2HH\, United Kingdom
CATEGORIES:Partner Events
ORGANIZER;CN="Bionow":MAILTO:helen.williams@bionow.co.uk
END:VEVENT
BEGIN:VEVENT
DTSTART;TZID=Europe/London:20261020T090000
DTEND;TZID=Europe/London:20261020T163000
DTSTAMP:20260424T002352
CREATED:20260414T104553Z
LAST-MODIFIED:20260414T104553Z
UID:25538-1792486800-1792513800@mediwales.com
SUMMARY:Bionow BioIgnite 2026 conference
DESCRIPTION:Date: 20th October 2026\nTime: 09:00 – 16:30\nVenue: Sci-Tech Daresbury\, Keckwick Lane\, Daresbury\, WA4 4AD \nBioIgnite: Sparking Growth Through Collaboration \nBionow’s BioIgnite conference is back for 2026! Bringing together industry and academia to explore emerging innovation\, sector initiatives and funding opportunities across life sciences\, the bespoke agenda creates a focused environment for insight\, discussion and connection. \nWhy Attend? \nThe BioIgnite programme features a full day of expert panels and presentations covering industry trends\, funding landscapes\, and advances in AI and healthcare. Attendees will also hear from early-stage innovators and companies scaling in industrial biotechnology\, alongside dedicated time for networking and exhibition. \nDesigned to support collaboration and knowledge sharing\, BioIgnite offers practical insight and valuable connections to help ideas progress and businesses grow. \nYou can learn more about the BioIgnite conference here.
URL:https://mediwales.com/event/bionow-bioignite-2026-conference/
LOCATION:Sci-Tech Daresbury\, WA4 4FS
CATEGORIES:Partner Events
ORGANIZER;CN="Bionow":MAILTO:helen.williams@bionow.co.uk
END:VEVENT
BEGIN:VEVENT
DTSTART;TZID=Europe/London:20261126T083000
DTEND;TZID=Europe/London:20261126T164500
DTSTAMP:20260424T002352
CREATED:20260414T105310Z
LAST-MODIFIED:20260414T105310Z
UID:25539-1795681800-1795711500@mediwales.com
SUMMARY:Bionow Oncology conference 2026
DESCRIPTION:Date: 26th November 2026\nTime: 08:30 – 16:45\nVenue: Apiary Conference Centre – Alderley Park\, Congleton Road\, Nether Alderley\, Macclesfield\, SK10 4TG \n\n\n\n\nExploring the Future of Oncology \nThe Bionow Oncology Conference brings together industry\, researchers and clinicians to explore the latest advances and ongoing challenges in cancer research and innovation. The event provides a forum for sharing insight\, fostering collaboration and supporting progress across the oncology ecosystem. \n\n\n\n\n\n\n\n\nWhy Attend? \nWith cancer continuing to present a major global health challenge\, innovation in oncology research and development remains critical. This conference will examine how advances in early detection\, treatment approaches and enabling technologies are shaping the future of cancer care\, and where further collaboration and investment are needed to improve patient outcomes. \n\n\n\n\nThe programme features keynote talks\, panel discussions and presentations from leading experts\, alongside exhibitions\, poster sessions and structured networking opportunities designed to encourage meaningful exchange and partnership. \nYou can learn more about the Bionow Oncology conference here.
URL:https://mediwales.com/event/bionow-oncology-conference-2026/
LOCATION:Apiary Conference Centre – Alderley Park\, Congleton Road\, Nether Alderley\, Macclesfield\, SK10 4TG
CATEGORIES:Partner Events
ORGANIZER;CN="Bionow":MAILTO:helen.williams@bionow.co.uk
END:VEVENT
END:VCALENDAR